Workbook

Sheet Inv Sistema
A5: Periodo:
A6: Bodega:
A7: Valorización de Existencias a Precio: Costo
A13: Código2 | B13: Column4 | C13: Departamento | D13: Area | E13: Código | F13: Descripcion | G13: Sistema | H13: Costo Unitario | I13: Vlr.Total | J13: Fisico | K13: Diferencia | L13: Nota | M13: Justificacion | N13: Valor en $
A14: =IFERROR(LEFT(Table1[[#This Row],[Código]],1),"") -> I | B14: =IFERROR(RIGHT(Table1[[#This Row],[Código]],2),"") -> 07 | C14: =IFERROR(VLOOKUP(A14,Mapa!A:B,2,0),"") -> Inventarios/Insumos | D14: =IFERROR(_xlfn.IFS(Table1[[#This Row],[Departamento]]="Bebidas","Bar",Table1[[#This Row],[Departamento]]="Inventarios/Insumos","Cocina",Table1[[#This Row],[Departamento]]="Postres","Cocina",Table1[[#This Row],[Departamento]]="Producciones","Cocina",Table1[[#This Row],[Departamento]]="Licores","Bar",Table1[[#This Row],[Departamento]]="Salsas","Cocina",Table1[[#This Row],[Departamento]]="Vinos","Bar"),"") -> Cocina | E14: I007 | F14: =IFERROR(VLOOKUP(Table1[[#This Row],[Código]],'Inventario Fisico'!A:D,4,FALSE),"") -> ENTRAÑA X GRAMOS | G14: =IFERROR(VLOOKUP(Table1[[#This Row],[Código]],'Inventario Fisico'!A:L,12,FALSE),"") -> 13000 | H14: =IFERROR(VLOOKUP(Table1[[#This Row],[Código]],'Inventario Fisico'!A:O,15,FALSE),"") -> 120 | I14: =IFERROR(+Table1[[#This Row],[Sistema]]*Table1[[#This Row],[Costo Unitario]],"") -> 1560000 | J14: =IFERROR(IFERROR(VLOOKUP(E14,'Conteo Fisico'!A:B,2,FALSE),0),"") -> 16340 | K14: =IFERROR(+Table1[[#This Row],[Fisico]]-Table1[[#This Row],[Sistema]],"") -> 3340 | L14: =_xlfn.IFS(Table1[[#This Row],[Diferencia]]>0,"Sobrante",Table1[[#This Row],[Diferencia]]<0,"Faltante",Table1[[#This Row],[Diferencia]]=0,"Ok") -> Sobrante | M14: Pendiente un compra en sistema | N14: =IFERROR(+Table1[[#This Row],[Diferencia]]*Table1[[#This Row],[Costo Unitario]],"") -> 400800
A15: =IFERROR(LEFT(Table1[[#This Row],[Código]],1),"") -> I | B15: =IFERROR(RIGHT(Table1[[#This Row],[Código]],2),"") -> 29 | C15: =IFERROR(VLOOKUP(A15,Mapa!A:B,2,0),"") -> Inventarios/Insumos | D15: =IFERROR(_xlfn.IFS(Table1[[#This Row],[Departamento]]="Bebidas","Bar",Table1[[#This Row],[Departamento]]="Inventarios/Insumos","Cocina",Table1[[#This Row],[Departamento]]="Postres","Cocina",Table1[[#This Row],[Departamento]]="Producciones","Cocina",Table1[[#This Row],[Departamento]]="Licores","Bar",Table1[[#This Row],[Departamento]]="Salsas","Cocina",Table1[[#This Row],[Departamento]]="Vinos","Bar"),"") -> Cocina | E15: I029 | F15: =IFERROR(VLOOKUP(Table1[[#This Row],[Código]],'Inventario Fisico'!A:D,4,FALSE),"") -> CHICHARRON X GRAMOS | G15: =IFERROR(VLOOKUP(Table1[[#This Row],[Código]],'Inventario Fisico'!A:L,12,FALSE),"") -> 20000 | H15: =IFERROR(VLOOKUP(Table1[[#This Row],[Código]],'Inventario Fisico'!A:O,15,FALSE),"") -> 23 | I15: =IFERROR(+Table1[[#This Row],[Sistema]]*Table1[[#This Row],[Costo Unitario]],"") -> 460000 | J15: =IFERROR(IFERROR(VLOOKUP(E15,'Conteo Fisico'!A:B,2,FALSE),0),"") -> 26080 | K15: =IFERROR(+Table1[[#This Row],[Fisico]]-Table1[[#This Row],[Sistema]],"") -> 6080 | L15: =_xlfn.IFS(Table1[[#This Row],[Diferencia]]>0,"Sobrante",Table1[[#This Row],[Diferencia]]<0,"Faltante",Table1[[#This Row],[Diferencia]]=0,"Ok") -> Sobrante | N15: =IFERROR(+Table1[[#This Row],[Diferencia]]*Table1[[#This Row],[Costo Unitario]],"") -> 139840
A16: =IFERROR(LEFT(Table1[[#This Row],[Código]],1),"") -> I | B16: =IFERROR(RIGHT(Table1[[#This Row],[Código]],2),"") -> 34 | C16: =IFERROR(VLOOKUP(A16,Mapa!A:B,2,0),"") -> Inventarios/Insumos | D16: =IFERROR(_xlfn.IFS(Table1[[#This Row],[Departamento]]="Bebidas","Bar",Table1[[#This Row],[Departamento]]="Inventarios/Insumos","Cocina",Table1[[#This Row],[Departamento]]="Postres","Cocina",Table1[[#This Row],[Departamento]]="Producciones","Cocina",Table1[[#This Row],[Departamento]]="Licores","Bar",Table1[[#This Row],[Departamento]]="Salsas","Cocina",Table1[[#This Row],[Departamento]]="Vinos","Bar"),"") -> Cocina | E16: I034 | F16: =IFERROR(VLOOKUP(Table1[[#This Row],[Código]],'Inventario Fisico'!A:D,4,FALSE),"") -> CEBOLLA BLANCA | G16: =IFERROR(VLOOKUP(Table1[[#This Row],[Código]],'Inventario Fisico'!A:L,12,FALSE),"") -> 7000 | H16: =IFERROR(VLOOKUP(Table1[[#This Row],[Código]],'Inventario Fisico'!A:O,15,FALSE),"") -> 7 | I16: =IFERROR(+Table1[[#This Row],[Sistema]]*Table1[[#This Row],[Costo Unitario]],"") -> 49000 | J16: =IFERROR(IFERROR(VLOOKUP(E16,'Conteo Fisico'!A:B,2,FALSE),0),"") -> 7060 | K16: =IFERROR(+Table1[[#This Row],[Fisico]]-Table1[[#This Row],[Sistema]],"") -> 60 | L16: =_xlfn.IFS(Table1[[#This Row],[Diferencia]]>0,"Sobrante",Table1[[#This Row],[Diferencia]]<0,"Faltante",Table1[[#This Row],[Diferencia]]=0,"Ok") -> Sobrante | N16: =IFERROR(+Table1[[#This Row],[Diferencia]]*Table1[[#This Row],[Costo Unitario]],"") -> 420
A17: =IFERROR(LEFT(Table1[[#This Row],[Código]],1),"") -> I | B17: =IFERROR(RIGHT(Table1[[#This Row],[Código]],2),"") -> 17 | C17: =IFERROR(VLOOKUP(A17,Mapa!A:B,2,0),"") -> Inventarios/Insumos | D17: =IFERROR(_xlfn.IFS(Table1[[#This Row],[Departamento]]="Bebidas","Bar",Table1[[#This Row],[Departamento]]="Inventarios/Insumos","Cocina",Table1[[#This Row],[Departamento]]="Postres","Cocina",Table1[[#This Row],[Departamento]]="Producciones","Cocina",Table1[[#This Row],[Departamento]]="Licores","Bar",Table1[[#This Row],[Departamento]]="Salsas","Cocina",Table1[[#This Row],[Departamento]]="Vinos","Bar"),"") -> Cocina | E17: I017 | F17: =IFERROR(VLOOKUP(Table1[[#This Row],[Código]],'Inventario Fisico'!A:D,4,FALSE),"") -> VINAGRE BLANCO | G17: =IFERROR(VLOOKUP(Table1[[#This Row],[Código]],'Inventario Fisico'!A:L,12,FALSE),"") -> 10000 | H17: =IFERROR(VLOOKUP(Table1[[#This Row],[Código]],'Inventario Fisico'!A:O,15,FALSE),"") -> 3 | I17: =IFERROR(+Table1[[#This Row],[Sistema]]*Table1[[#This Row],[Costo Unitario]],"") -> 30000 | J17: =IFERROR(IFERROR(VLOOKUP(E17,'Conteo Fisico'!A:B,2,FALSE),0),"") -> 6000 | K17: =IFERROR(+Table1[[#This Row],[Fisico]]-Table1[[#This Row],[Sistema]],"") -> -4000 | L17: =_xlfn.IFS(Table1[[#This Row],[Diferencia]]>0,"Sobrante",Table1[[#This Row],[Diferencia]]<0,"Faltante",Table1[[#This Row],[Diferencia]]=0,"Ok") -> Faltante | N17: =IFERROR(+Table1[[#This Row],[Diferencia]]*Table1[[#This Row],[Costo Unitario]],"") -> -12000
A18: =IFERROR(LEFT(Table1[[#This Row],[Código]],1),"") -> I | B18: =IFERROR(RIGHT(Table1[[#This Row],[Código]],2),"") -> 14 | C18: =IFERROR(VLOOKUP(A18,Mapa!A:B,2,0),"") -> Inventarios/Insumos | D18: =IFERROR(_xlfn.IFS(Table1[[#This Row],[Departamento]]="Bebidas","Bar",Table1[[#This Row],[Departamento]]="Inventarios/Insumos","Cocina",Table1[[#This Row],[Departamento]]="Postres","Cocina",Table1[[#This Row],[Departamento]]="Producciones","Cocina",Table1[[#This Row],[Departamento]]="Licores","Bar",Table1[[#This Row],[Departamento]]="Salsas","Cocina",Table1[[#This Row],[Departamento]]="Vinos","Bar"),"") -> Cocina | E18: I014 | F18: =IFERROR(VLOOKUP(Table1[[#This Row],[Código]],'Inventario Fisico'!A:D,4,FALSE),"") -> COSTILLA X GRAMOS | G18: =IFERROR(VLOOKUP(Table1[[#This Row],[Código]],'Inventario Fisico'!A:L,12,FALSE),"") -> 5000 | H18: =IFERROR(VLOOKUP(Table1[[#This Row],[Código]],'Inventario Fisico'!A:O,15,FALSE),"") -> 28 | I18: =IFERROR(+Table1[[#This Row],[Sistema]]*Table1[[#This Row],[Costo Unitario]],"") -> 140000 | J18: =IFERROR(IFERROR(VLOOKUP(E18,'Conteo Fisico'!A:B,2,FALSE),0),"") -> 6615 | K18: =IFERROR(+Table1[[#This Row],[Fisico]]-Table1[[#This Row],[Sistema]],"") -> 1615 | L18: =_xlfn.IFS(Table1[[#This Row],[Diferencia]]>0,"Sobrante",Table1[[#This Row],[Diferencia]]<0,"Faltante",Table1[[#This Row],[Diferencia]]=0,"Ok") -> Sobrante | N18: =IFERROR(+Table1[[#This Row],[Diferencia]]*Table1[[#This Row],[Costo Unitario]],"") -> 45220
A19: =IFERROR(LEFT(Table1[[#This Row],[Código]],1),"") -> I | B19: =IFERROR(RIGHT(Table1[[#This Row],[Código]],2),"") -> 46 | C19: =IFERROR(VLOOKUP(A19,Mapa!A:B,2,0),"") -> Inventarios/Insumos | D19: =IFERROR(_xlfn.IFS(Table1[[#This Row],[Departamento]]="Bebidas","Bar",Table1[[#This Row],[Departamento]]="Inventarios/Insumos","Cocina",Table1[[#This Row],[Departamento]]="Postres","Cocina",Table1[[#This Row],[Departamento]]="Producciones","Cocina",Table1[[#This Row],[Departamento]]="Licores","Bar",Table1[[#This Row],[Departamento]]="Salsas","Cocina",Table1[[#This Row],[Departamento]]="Vinos","Bar"),"") -> Cocina | E19: I046 | F19: =IFERROR(VLOOKUP(Table1[[#This Row],[Código]],'Inventario Fisico'!A:D,4,FALSE),"") -> PEPINO COHOMBRO | G19: =IFERROR(VLOOKUP(Table1[[#This Row],[Código]],'Inventario Fisico'!A:L,12,FALSE),"") -> 400 | H19: =IFERROR(VLOOKUP(Table1[[#This Row],[Código]],'Inventario Fisico'!A:O,15,FALSE),"") -> 4 | I19: =IFERROR(+Table1[[#This Row],[Sistema]]*Table1[[#This Row],[Costo Unitario]],"") -> 1600 | J19: =IFERROR(IFERROR(VLOOKUP(E19,'Conteo Fisico'!A:B,2,FALSE),0),"") -> 955 | K19: =IFERROR(+Table1[[#This Row],[Fisico]]-Table1[[#This Row],[Sistema]],"") -> 555 | L19: =_xlfn.IFS(Table1[[#This Row],[Diferencia]]>0,"Sobrante",Table1[[#This Row],[Diferencia]]<0,"Faltante",Table1[[#This Row],[Diferencia]]=0,"Ok") -> Sobrante | N19: =IFERROR(+Table1[[#This Row],[Diferencia]]*Table1[[#This Row],[Costo Unitario]],"") -> 2220
A20: =IFERROR(LEFT(Table1[[#This Row],[Código]],1),"") -> I | B20: =IFERROR(RIGHT(Table1[[#This Row],[Código]],2),"") -> 20 | C20: =IFERROR(VLOOKUP(A20,Mapa!A:B,2,0),"") -> Inventarios/Insumos | D20: =IFERROR(_xlfn.IFS(Table1[[#This Row],[Departamento]]="Bebidas","Bar",Table1[[#This Row],[Departamento]]="Inventarios/Insumos","Cocina",Table1[[#This Row],[Departamento]]="Postres","Cocina",Table1[[#This Row],[Departamento]]="Producciones","Cocina",Table1[[#This Row],[Departamento]]="Licores","Bar",Table1[[#This Row],[Departamento]]="Salsas","Cocina",Table1[[#This Row],[Departamento]]="Vinos","Bar"),"") -> Cocina | E20: I020 | F20: =IFERROR(VLOOKUP(Table1[[#This Row],[Código]],'Inventario Fisico'!A:D,4,FALSE),"") -> SAL PARRILLERA X GRAMOS | G20: =IFERROR(VLOOKUP(Table1[[#This Row],[Código]],'Inventario Fisico'!A:L,12,FALSE),"") -> 2000 | H20: =IFERROR(VLOOKUP(Table1[[#This Row],[Código]],'Inventario Fisico'!A:O,15,FALSE),"") -> 29 | I20: =IFERROR(+Table1[[#This Row],[Sistema]]*Table1[[#This Row],[Costo Unitario]],"") -> 58000 | J20: =IFERROR(IFERROR(VLOOKUP(E20,'Conteo Fisico'!A:B,2,FALSE),0),"") -> 4540 | K20: =IFERROR(+Table1[[#This Row],[Fisico]]-Table1[[#This Row],[Sistema]],"") -> 2540 | L20: =_xlfn.IFS(Table1[[#This Row],[Diferencia]]>0,"Sobrante",Table1[[#This Row],[Diferencia]]<0,"Faltante",Table1[[#This Row],[Diferencia]]=0,"Ok") -> Sobrante | N20: =IFERROR(+Table1[[#This Row],[Diferencia]]*Table1[[#This Row],[Costo Unitario]],"") -> 73660
A21: =IFERROR(LEFT(Table1[[#This Row],[Código]],1),"") -> I | B21: =IFERROR(RIGHT(Table1[[#This Row],[Código]],2),"") -> 25 | C21: =IFERROR(VLOOKUP(A21,Mapa!A:B,2,0),"") -> Inventarios/Insumos | D21: =IFERROR(_xlfn.IFS(Table1[[#This Row],[Departamento]]="Bebidas","Bar",Table1[[#This Row],[Departamento]]="Inventarios/Insumos","Cocina",Table1[[#This Row],[Departamento]]="Postres","Cocina",Table1[[#This Row],[Departamento]]="Producciones","Cocina",Table1[[#This Row],[Departamento]]="Licores","Bar",Table1[[#This Row],[Departamento]]="Salsas","Cocina",Table1[[#This Row],[Departamento]]="Vinos","Bar"),"") -> Cocina | E21: I025 | F21: =IFERROR(VLOOKUP(Table1[[#This Row],[Código]],'Inventario Fisico'!A:D,4,FALSE),"") -> YUCA X GRAMOS | G21: =IFERROR(VLOOKUP(Table1[[#This Row],[Código]],'Inventario Fisico'!A:L,12,FALSE),"") -> 41585 | H21: =IFERROR(VLOOKUP(Table1[[#This Row],[Código]],'Inventario Fisico'!A:O,15,FALSE),"") -> 7 | I21: =IFERROR(+Table1[[#This Row],[Sistema]]*Table1[[#This Row],[Costo Unitario]],"") -> 291095 | J21: =IFERROR(IFERROR(VLOOKUP(E21,'Conteo Fisico'!A:B,2,FALSE),0),"") -> 41585 | K21: =IFERROR(+Table1[[#This Row],[Fisico]]-Table1[[#This Row],[Sistema]],"") -> 0 | L21: =_xlfn.IFS(Table1[[#This Row],[Diferencia]]>0,"Sobrante",Table1[[#This Row],[Diferencia]]<0,"Faltante",Table1[[#This Row],[Diferencia]]=0,"Ok") -> Ok | N21: =IFERROR(+Table1[[#This Row],[Diferencia]]*Table1[[#This Row],[Costo Unitario]],"") -> 0
A22: =IFERROR(LEFT(Table1[[#This Row],[Código]],1),"") -> I | B22: =IFERROR(RIGHT(Table1[[#This Row],[Código]],2),"") -> 56 | C22: =IFERROR(VLOOKUP(A22,Mapa!A:B,2,0),"") -> Inventarios/Insumos | D22: =IFERROR(_xlfn.IFS(Table1[[#This Row],[Departamento]]="Bebidas","Bar",Table1[[#This Row],[Departamento]]="Inventarios/Insumos","Cocina",Table1[[#This Row],[Departamento]]="Postres","Cocina",Table1[[#This Row],[Departamento]]="Producciones","Cocina",Table1[[#This Row],[Departamento]]="Licores","Bar",Table1[[#This Row],[Departamento]]="Salsas","Cocina",Table1[[#This Row],[Departamento]]="Vinos","Bar"),"") -> Cocina | E22: I056 | F22: =IFERROR(VLOOKUP(Table1[[#This Row],[Código]],'Inventario Fisico'!A:D,4,FALSE),"") -> CEBOLLA PUERRO X GRAMOS | G22: =IFERROR(VLOOKUP(Table1[[#This Row],[Código]],'Inventario Fisico'!A:L,12,FALSE),"") -> 2000 | H22: =IFERROR(VLOOKUP(Table1[[#This Row],[Código]],'Inventario Fisico'!A:O,15,FALSE),"") -> 9 | I22: =IFERROR(+Table1[[#This Row],[Sistema]]*Table1[[#This Row],[Costo Unitario]],"") -> 18000 | J22: =IFERROR(IFERROR(VLOOKUP(E22,'Conteo Fisico'!A:B,2,FALSE),0),"") -> 3480 | K22: =IFERROR(+Table1[[#This Row],[Fisico]]-Table1[[#This Row],[Sistema]],"") -> 1480 | L22: =_xlfn.IFS(Table1[[#This Row],[Diferencia]]>0,"Sobrante",Table1[[#This Row],[Diferencia]]<0,"Faltante",Table1[[#This Row],[Diferencia]]=0,"Ok") -> Sobrante | N22: =IFERROR(+Table1[[#This Row],[Diferencia]]*Table1[[#This Row],[Costo Unitario]],"") -> 13320
A23: =IFERROR(LEFT(Table1[[#This Row],[Código]],1),"") | B23: =IFERROR(RIGHT(Table1[[#This Row],[Código]],2),"") | C23: =IFERROR(VLOOKUP(A23,Mapa!A:B,2,0),"") | D23: =IFERROR(_xlfn.IFS(Table1[[#This Row],[Departamento]]="Bebidas","Bar",Table1[[#This Row],[Departamento]]="Inventarios/Insumos","Cocina",Table1[[#This Row],[Departamento]]="Postres","Cocina",Table1[[#This Row],[Departamento]]="Producciones","Cocina",Table1[[#This Row],[Departamento]]="Licores","Bar",Table1[[#This Row],[Departamento]]="Salsas","Cocina",Table1[[#This Row],[Departamento]]="Vinos","Bar"),"") | F23: =IFERROR(VLOOKUP(Table1[[#This Row],[Código]],'Inventario Fisico'!A:D,4,FALSE),"") | G23: =IFERROR(VLOOKUP(Table1[[#This Row],[Código]],'Inventario Fisico'!A:L,12,FALSE),"") | H23: =IFERROR(VLOOKUP(Table1[[#This Row],[Código]],'Inventario Fisico'!A:O,15,FALSE),"") | I23: =IFERROR(+Table1[[#This Row],[Sistema]]*Table1[[#This Row],[Costo Unitario]],"") | J23: =IFERROR(IFERROR(VLOOKUP(E23,'Conteo Fisico'!A:B,2,FALSE),0),"") -> 0 | K23: =IFERROR(+Table1[[#This Row],[Fisico]]-Table1[[#This Row],[Sistema]],"") | L23: =_xlfn.IFS(Table1[[#This Row],[Diferencia]]>0,"Sobrante",Table1[[#This Row],[Diferencia]]<0,"Faltante",Table1[[#This Row],[Diferencia]]=0,"Ok") -> Sobrante | N23: =IFERROR(+Table1[[#This Row],[Diferencia]]*Table1[[#This Row],[Costo Unitario]],"")
A24: =IFERROR(LEFT(Table1[[#This Row],[Código]],1),"") | B24: =IFERROR(RIGHT(Table1[[#This Row],[Código]],2),"") | C24: =IFERROR(VLOOKUP(A24,Mapa!A:B,2,0),"") | D24: =IFERROR(_xlfn.IFS(Table1[[#This Row],[Departamento]]="Bebidas","Bar",Table1[[#This Row],[Departamento]]="Inventarios/Insumos","Cocina",Table1[[#This Row],[Departamento]]="Postres","Cocina",Table1[[#This Row],[Departamento]]="Producciones","Cocina",Table1[[#This Row],[Departamento]]="Licores","Bar",Table1[[#This Row],[Departamento]]="Salsas","Cocina",Table1[[#This Row],[Departamento]]="Vinos","Bar"),"") | F24: =IFERROR(VLOOKUP(Table1[[#This Row],[Código]],'Inventario Fisico'!A:D,4,FALSE),"") | G24: =IFERROR(VLOOKUP(Table1[[#This Row],[Código]],'Inventario Fisico'!A:L,12,FALSE),"") | H24: =IFERROR(VLOOKUP(Table1[[#This Row],[Código]],'Inventario Fisico'!A:O,15,FALSE),"") | I24: =IFERROR(+Table1[[#This Row],[Sistema]]*Table1[[#This Row],[Costo Unitario]],"") | J24: =IFERROR(IFERROR(VLOOKUP(E24,'Conteo Fisico'!A:B,2,FALSE),0),"") -> 0 | K24: =IFERROR(+Table1[[#This Row],[Fisico]]-Table1[[#This Row],[Sistema]],"") | L24: =_xlfn.IFS(Table1[[#This Row],[Diferencia]]>0,"Sobrante",Table1[[#This Row],[Diferencia]]<0,"Faltante",Table1[[#This Row],[Diferencia]]=0,"Ok") -> Sobrante | N24: =IFERROR(+Table1[[#This Row],[Diferencia]]*Table1[[#This Row],[Costo Unitario]],"")
A25: =IFERROR(LEFT(Table1[[#This Row],[Código]],1),"") | B25: =IFERROR(RIGHT(Table1[[#This Row],[Código]],2),"") | C25: =IFERROR(VLOOKUP(A25,Mapa!A:B,2,0),"") | D25: =IFERROR(_xlfn.IFS(Table1[[#This Row],[Departamento]]="Bebidas","Bar",Table1[[#This Row],[Departamento]]="Inventarios/Insumos","Cocina",Table1[[#This Row],[Departamento]]="Postres","Cocina",Table1[[#This Row],[Departamento]]="Producciones","Cocina",Table1[[#This Row],[Departamento]]="Licores","Bar",Table1[[#This Row],[Departamento]]="Salsas","Cocina",Table1[[#This Row],[Departamento]]="Vinos","Bar"),"") | F25: =IFERROR(VLOOKUP(Table1[[#This Row],[Código]],'Inventario Fisico'!A:D,4,FALSE),"") | G25: =IFERROR(VLOOKUP(Table1[[#This Row],[Código]],'Inventario Fisico'!A:L,12,FALSE),"") | H25: =IFERROR(VLOOKUP(Table1[[#This Row],[Código]],'Inventario Fisico'!A:O,15,FALSE),"") | I25: =IFERROR(+Table1[[#This Row],[Sistema]]*Table1[[#This Row],[Costo Unitario]],"") | J25: =IFERROR(IFERROR(VLOOKUP(E25,'Conteo Fisico'!A:B,2,FALSE),0),"") -> 0 | K25: =IFERROR(+Table1[[#This Row],[Fisico]]-Table1[[#This Row],[Sistema]],"") | L25: =_xlfn.IFS(Table1[[#This Row],[Diferencia]]>0,"Sobrante",Table1[[#This Row],[Diferencia]]<0,"Faltante",Table1[[#This Row],[Diferencia]]=0,"Ok") -> Sobrante | N25: =IFERROR(+Table1[[#This Row],[Diferencia]]*Table1[[#This Row],[Costo Unitario]],"")
A26: =IFERROR(LEFT(Table1[[#This Row],[Código]],1),"") | B26: =IFERROR(RIGHT(Table1[[#This Row],[Código]],2),"") | C26: =IFERROR(VLOOKUP(A26,Mapa!A:B,2,0),"") | D26: =IFERROR(_xlfn.IFS(Table1[[#This Row],[Departamento]]="Bebidas","Bar",Table1[[#This Row],[Departamento]]="Inventarios/Insumos","Cocina",Table1[[#This Row],[Departamento]]="Postres","Cocina",Table1[[#This Row],[Departamento]]="Producciones","Cocina",Table1[[#This Row],[Departamento]]="Licores","Bar",Table1[[#This Row],[Departamento]]="Salsas","Cocina",Table1[[#This Row],[Departamento]]="Vinos","Bar"),"") | F26: =IFERROR(VLOOKUP(Table1[[#This Row],[Código]],'Inventario Fisico'!A:D,4,FALSE),"") | G26: =IFERROR(VLOOKUP(Table1[[#This Row],[Código]],'Inventario Fisico'!A:L,12,FALSE),"") | H26: =IFERROR(VLOOKUP(Table1[[#This Row],[Código]],'Inventario Fisico'!A:O,15,FALSE),"") | I26: =IFERROR(+Table1[[#This Row],[Sistema]]*Table1[[#This Row],[Costo Unitario]],"") | J26: =IFERROR(IFERROR(VLOOKUP(E26,'Conteo Fisico'!A:B,2,FALSE),0),"") -> 0 | K26: =IFERROR(+Table1[[#This Row],[Fisico]]-Table1[[#This Row],[Sistema]],"") | L26: =_xlfn.IFS(Table1[[#This Row],[Diferencia]]>0,"Sobrante",Table1[[#This Row],[Diferencia]]<0,"Faltante",Table1[[#This Row],[Diferencia]]=0,"Ok") -> Sobrante | N26: =IFERROR(+Table1[[#This Row],[Diferencia]]*Table1[[#This Row],[Costo Unitario]],"")
A27: =IFERROR(LEFT(Table1[[#This Row],[Código]],1),"") | B27: =IFERROR(RIGHT(Table1[[#This Row],[Código]],2),"") | C27: =IFERROR(VLOOKUP(A27,Mapa!A:B,2,0),"") | D27: =IFERROR(_xlfn.IFS(Table1[[#This Row],[Departamento]]="Bebidas","Bar",Table1[[#This Row],[Departamento]]="Inventarios/Insumos","Cocina",Table1[[#This Row],[Departamento]]="Postres","Cocina",Table1[[#This Row],[Departamento]]="Producciones","Cocina",Table1[[#This Row],[Departamento]]="Licores","Bar",Table1[[#This Row],[Departamento]]="Salsas","Cocina",Table1[[#This Row],[Departamento]]="Vinos","Bar"),"") | F27: =IFERROR(VLOOKUP(Table1[[#This Row],[Código]],'Inventario Fisico'!A:D,4,FALSE),"") | G27: =IFERROR(VLOOKUP(Table1[[#This Row],[Código]],'Inventario Fisico'!A:L,12,FALSE),"") | H27: =IFERROR(VLOOKUP(Table1[[#This Row],[Código]],'Inventario Fisico'!A:O,15,FALSE),"") | I27: =IFERROR(+Table1[[#This Row],[Sistema]]*Table1[[#This Row],[Costo Unitario]],"") | J27: =IFERROR(IFERROR(VLOOKUP(E27,'Conteo Fisico'!A:B,2,FALSE),0),"") -> 0 | K27: =IFERROR(+Table1[[#This Row],[Fisico]]-Table1[[#This Row],[Sistema]],"") | L27: =_xlfn.IFS(Table1[[#This Row],[Diferencia]]>0,"Sobrante",Table1[[#This Row],[Diferencia]]<0,"Faltante",Table1[[#This Row],[Diferencia]]=0,"Ok") -> Sobrante | N27: =IFERROR(+Table1[[#This Row],[Diferencia]]*Table1[[#This Row],[Costo Unitario]],"")
A28: =IFERROR(LEFT(Table1[[#This Row],[Código]],1),"") | B28: =IFERROR(RIGHT(Table1[[#This Row],[Código]],2),"") | C28: =IFERROR(VLOOKUP(A28,Mapa!A:B,2,0),"") | D28: =IFERROR(_xlfn.IFS(Table1[[#This Row],[Departamento]]="Bebidas","Bar",Table1[[#This Row],[Departamento]]="Inventarios/Insumos","Cocina",Table1[[#This Row],[Departamento]]="Postres","Cocina",Table1[[#This Row],[Departamento]]="Producciones","Cocina",Table1[[#This Row],[Departamento]]="Licores","Bar",Table1[[#This Row],[Departamento]]="Salsas","Cocina",Table1[[#This Row],[Departamento]]="Vinos","Bar"),"") | F28: =IFERROR(VLOOKUP(Table1[[#This Row],[Código]],'Inventario Fisico'!A:D,4,FALSE),"") | G28: =IFERROR(VLOOKUP(Table1[[#This Row],[Código]],'Inventario Fisico'!A:L,12,FALSE),"") | H28: =IFERROR(VLOOKUP(Table1[[#This Row],[Código]],'Inventario Fisico'!A:O,15,FALSE),"") | I28: =IFERROR(+Table1[[#This Row],[Sistema]]*Table1[[#This Row],[Costo Unitario]],"") | J28: =IFERROR(IFERROR(VLOOKUP(E28,'Conteo Fisico'!A:B,2,FALSE),0),"") -> 0 | K28: =IFERROR(+Table1[[#This Row],[Fisico]]-Table1[[#This Row],[Sistema]],"") | L28: =_xlfn.IFS(Table1[[#This Row],[Diferencia]]>0,"Sobrante",Table1[[#This Row],[Diferencia]]<0,"Faltante",Table1[[#This Row],[Diferencia]]=0,"Ok") -> Sobrante | N28: =IFERROR(+Table1[[#This Row],[Diferencia]]*Table1[[#This Row],[Costo Unitario]],"")
A29: =IFERROR(LEFT(Table1[[#This Row],[Código]],1),"") | B29: =IFERROR(RIGHT(Table1[[#This Row],[Código]],2),"") | C29: =IFERROR(VLOOKUP(A29,Mapa!A:B,2,0),"") | D29: =IFERROR(_xlfn.IFS(Table1[[#This Row],[Departamento]]="Bebidas","Bar",Table1[[#This Row],[Departamento]]="Inventarios/Insumos","Cocina",Table1[[#This Row],[Departamento]]="Postres","Cocina",Table1[[#This Row],[Departamento]]="Producciones","Cocina",Table1[[#This Row],[Departamento]]="Licores","Bar",Table1[[#This Row],[Departamento]]="Salsas","Cocina",Table1[[#This Row],[Departamento]]="Vinos","Bar"),"") | F29: =IFERROR(VLOOKUP(Table1[[#This Row],[Código]],'Inventario Fisico'!A:D,4,FALSE),"") | G29: =IFERROR(VLOOKUP(Table1[[#This Row],[Código]],'Inventario Fisico'!A:L,12,FALSE),"") | H29: =IFERROR(VLOOKUP(Table1[[#This Row],[Código]],'Inventario Fisico'!A:O,15,FALSE),"") | I29: =IFERROR(+Table1[[#This Row],[Sistema]]*Table1[[#This Row],[Costo Unitario]],"") | J29: =IFERROR(IFERROR(VLOOKUP(E29,'Conteo Fisico'!A:B,2,FALSE),0),"") -> 0 | K29: =IFERROR(+Table1[[#This Row],[Fisico]]-Table1[[#This Row],[Sistema]],"") | L29: =_xlfn.IFS(Table1[[#This Row],[Diferencia]]>0,"Sobrante",Table1[[#This Row],[Diferencia]]<0,"Faltante",Table1[[#This Row],[Diferencia]]=0,"Ok") -> Sobrante | N29: =IFERROR(+Table1[[#This Row],[Diferencia]]*Table1[[#This Row],[Costo Unitario]],"")
A30: =IFERROR(LEFT(Table1[[#This Row],[Código]],1),"") | B30: =IFERROR(RIGHT(Table1[[#This Row],[Código]],2),"") | C30: =IFERROR(VLOOKUP(A30,Mapa!A:B,2,0),"") | D30: =IFERROR(_xlfn.IFS(Table1[[#This Row],[Departamento]]="Bebidas","Bar",Table1[[#This Row],[Departamento]]="Inventarios/Insumos","Cocina",Table1[[#This Row],[Departamento]]="Postres","Cocina",Table1[[#This Row],[Departamento]]="Producciones","Cocina",Table1[[#This Row],[Departamento]]="Licores","Bar",Table1[[#This Row],[Departamento]]="Salsas","Cocina",Table1[[#This Row],[Departamento]]="Vinos","Bar"),"") | F30: =IFERROR(VLOOKUP(Table1[[#This Row],[Código]],'Inventario Fisico'!A:D,4,FALSE),"") | G30: =IFERROR(VLOOKUP(Table1[[#This Row],[Código]],'Inventario Fisico'!A:L,12,FALSE),"") | H30: =IFERROR(VLOOKUP(Table1[[#This Row],[Código]],'Inventario Fisico'!A:O,15,FALSE),"") | I30: =IFERROR(+Table1[[#This Row],[Sistema]]*Table1[[#This Row],[Costo Unitario]],"") | J30: =IFERROR(IFERROR(VLOOKUP(E30,'Conteo Fisico'!A:B,2,FALSE),0),"") -> 0 | K30: =IFERROR(+Table1[[#This Row],[Fisico]]-Table1[[#This Row],[Sistema]],"") | L30: =_xlfn.IFS(Table1[[#This Row],[Diferencia]]>0,"Sobrante",Table1[[#This Row],[Diferencia]]<0,"Faltante",Table1[[#This Row],[Diferencia]]=0,"Ok") -> Sobrante | N30: =IFERROR(+Table1[[#This Row],[Diferencia]]*Table1[[#This Row],[Costo Unitario]],"")
A31: =IFERROR(LEFT(Table1[[#This Row],[Código]],1),"") | B31: =IFERROR(RIGHT(Table1[[#This Row],[Código]],2),"") | C31: =IFERROR(VLOOKUP(A31,Mapa!A:B,2,0),"") | D31: =IFERROR(_xlfn.IFS(Table1[[#This Row],[Departamento]]="Bebidas","Bar",Table1[[#This Row],[Departamento]]="Inventarios/Insumos","Cocina",Table1[[#This Row],[Departamento]]="Postres","Cocina",Table1[[#This Row],[Departamento]]="Producciones","Cocina",Table1[[#This Row],[Departamento]]="Licores","Bar",Table1[[#This Row],[Departamento]]="Salsas","Cocina",Table1[[#This Row],[Departamento]]="Vinos","Bar"),"") | F31: =IFERROR(VLOOKUP(Table1[[#This Row],[Código]],'Inventario Fisico'!A:D,4,FALSE),"") | G31: =IFERROR(VLOOKUP(Table1[[#This Row],[Código]],'Inventario Fisico'!A:L,12,FALSE),"") | H31: =IFERROR(VLOOKUP(Table1[[#This Row],[Código]],'Inventario Fisico'!A:O,15,FALSE),"") | I31: =IFERROR(+Table1[[#This Row],[Sistema]]*Table1[[#This Row],[Costo Unitario]],"") | J31: =IFERROR(IFERROR(VLOOKUP(E31,'Conteo Fisico'!A:B,2,FALSE),0),"") -> 0 | K31: =IFERROR(+Table1[[#This Row],[Fisico]]-Table1[[#This Row],[Sistema]],"") | L31: =_xlfn.IFS(Table1[[#This Row],[Diferencia]]>0,"Sobrante",Table1[[#This Row],[Diferencia]]<0,"Faltante",Table1[[#This Row],[Diferencia]]=0,"Ok") -> Sobrante | N31: =IFERROR(+Table1[[#This Row],[Diferencia]]*Table1[[#This Row],[Costo Unitario]],"")
A32: =IFERROR(LEFT(Table1[[#This Row],[Código]],1),"") | B32: =IFERROR(RIGHT(Table1[[#This Row],[Código]],2),"") | C32: =IFERROR(VLOOKUP(A32,Mapa!A:B,2,0),"") | D32: =IFERROR(_xlfn.IFS(Table1[[#This Row],[Departamento]]="Bebidas","Bar",Table1[[#This Row],[Departamento]]="Inventarios/Insumos","Cocina",Table1[[#This Row],[Departamento]]="Postres","Cocina",Table1[[#This Row],[Departamento]]="Producciones","Cocina",Table1[[#This Row],[Departamento]]="Licores","Bar",Table1[[#This Row],[Departamento]]="Salsas","Cocina",Table1[[#This Row],[Departamento]]="Vinos","Bar"),"") | F32: =IFERROR(VLOOKUP(Table1[[#This Row],[Código]],'Inventario Fisico'!A:D,4,FALSE),"") | G32: =IFERROR(VLOOKUP(Table1[[#This Row],[Código]],'Inventario Fisico'!A:L,12,FALSE),"") | H32: =IFERROR(VLOOKUP(Table1[[#This Row],[Código]],'Inventario Fisico'!A:O,15,FALSE),"") | I32: =IFERROR(+Table1[[#This Row],[Sistema]]*Table1[[#This Row],[Costo Unitario]],"") | J32: =IFERROR(IFERROR(VLOOKUP(E32,'Conteo Fisico'!A:B,2,FALSE),0),"") -> 0 | K32: =IFERROR(+Table1[[#This Row],[Fisico]]-Table1[[#This Row],[Sistema]],"") | L32: =_xlfn.IFS(Table1[[#This Row],[Diferencia]]>0,"Sobrante",Table1[[#This Row],[Diferencia]]<0,"Faltante",Table1[[#This Row],[Diferencia]]=0,"Ok") -> Sobrante | N32: =IFERROR(+Table1[[#This Row],[Diferencia]]*Table1[[#This Row],[Costo Unitario]],"")
A33: =IFERROR(LEFT(Table1[[#This Row],[Código]],1),"") | B33: =IFERROR(RIGHT(Table1[[#This Row],[Código]],2),"") | C33: =IFERROR(VLOOKUP(A33,Mapa!A:B,2,0),"") | D33: =IFERROR(_xlfn.IFS(Table1[[#This Row],[Departamento]]="Bebidas","Bar",Table1[[#This Row],[Departamento]]="Inventarios/Insumos","Cocina",Table1[[#This Row],[Departamento]]="Postres","Cocina",Table1[[#This Row],[Departamento]]="Producciones","Cocina",Table1[[#This Row],[Departamento]]="Licores","Bar",Table1[[#This Row],[Departamento]]="Salsas","Cocina",Table1[[#This Row],[Departamento]]="Vinos","Bar"),"") | F33: =IFERROR(VLOOKUP(Table1[[#This Row],[Código]],'Inventario Fisico'!A:D,4,FALSE),"") | G33: =IFERROR(VLOOKUP(Table1[[#This Row],[Código]],'Inventario Fisico'!A:L,12,FALSE),"") | H33: =IFERROR(VLOOKUP(Table1[[#This Row],[Código]],'Inventario Fisico'!A:O,15,FALSE),"") | I33: =IFERROR(+Table1[[#This Row],[Sistema]]*Table1[[#This Row],[Costo Unitario]],"") | J33: =IFERROR(IFERROR(VLOOKUP(E33,'Conteo Fisico'!A:B,2,FALSE),0),"") -> 0 | K33: =IFERROR(+Table1[[#This Row],[Fisico]]-Table1[[#This Row],[Sistema]],"") | L33: =_xlfn.IFS(Table1[[#This Row],[Diferencia]]>0,"Sobrante",Table1[[#This Row],[Diferencia]]<0,"Faltante",Table1[[#This Row],[Diferencia]]=0,"Ok") -> Sobrante | N33: =IFERROR(+Table1[[#This Row],[Diferencia]]*Table1[[#This Row],[Costo Unitario]],"")
A34: =IFERROR(LEFT(Table1[[#This Row],[Código]],1),"") | B34: =IFERROR(RIGHT(Table1[[#This Row],[Código]],2),"") | C34: =IFERROR(VLOOKUP(A34,Mapa!A:B,2,0),"") | D34: =IFERROR(_xlfn.IFS(Table1[[#This Row],[Departamento]]="Bebidas","Bar",Table1[[#This Row],[Departamento]]="Inventarios/Insumos","Cocina",Table1[[#This Row],[Departamento]]="Postres","Cocina",Table1[[#This Row],[Departamento]]="Producciones","Cocina",Table1[[#This Row],[Departamento]]="Licores","Bar",Table1[[#This Row],[Departamento]]="Salsas","Cocina",Table1[[#This Row],[Departamento]]="Vinos","Bar"),"") | F34: =IFERROR(VLOOKUP(Table1[[#This Row],[Código]],'Inventario Fisico'!A:D,4,FALSE),"") | G34: =IFERROR(VLOOKUP(Table1[[#This Row],[Código]],'Inventario Fisico'!A:L,12,FALSE),"") | H34: =IFERROR(VLOOKUP(Table1[[#This Row],[Código]],'Inventario Fisico'!A:O,15,FALSE),"") | I34: =IFERROR(+Table1[[#This Row],[Sistema]]*Table1[[#This Row],[Costo Unitario]],"") | J34: =IFERROR(IFERROR(VLOOKUP(E34,'Conteo Fisico'!A:B,2,FALSE),0),"") -> 0 | K34: =IFERROR(+Table1[[#This Row],[Fisico]]-Table1[[#This Row],[Sistema]],"") | L34: =_xlfn.IFS(Table1[[#This Row],[Diferencia]]>0,"Sobrante",Table1[[#This Row],[Diferencia]]<0,"Faltante",Table1[[#This Row],[Diferencia]]=0,"Ok") -> Sobrante | N34: =IFERROR(+Table1[[#This Row],[Diferencia]]*Table1[[#This Row],[Costo Unitario]],"")
... A333: =IFERROR(LEFT(Table1[[#This Row],[Código]],1),"") | B333: =IFERROR(RIGHT(Table1[[#This Row],[Código]],2),"") | C333: =IFERROR(VLOOKUP(A333,Mapa!A:B,2,0),"") | D333: =IFERROR(_xlfn.IFS(Table1[[#This Row],[Departamento]]="Bebidas","Bar",Table1[[#This Row],[Departamento]]="Inventarios/Insumos","Cocina",Table1[[#This Row],[Departamento]]="Postres","Cocina",Table1[[#This Row],[Departamento]]="Producciones","Cocina",Table1[[#This Row],[Departamento]]="Licores","Bar",Table1[[#This Row],[Departamento]]="Salsas","Cocina",Table1[[#This Row],[Departamento]]="Vinos","Bar"),"") | F333: =IFERROR(VLOOKUP(Table1[[#This Row],[Código]],'Inventario Fisico'!A:D,4,FALSE),"") | G333: =IFERROR(VLOOKUP(Table1[[#This Row],[Código]],'Inventario Fisico'!A:L,12,FALSE),"") | H333: =IFERROR(VLOOKUP(Table1[[#This Row],[Código]],'Inventario Fisico'!A:O,15,FALSE),"") | I333: =IFERROR(+Table1[[#This Row],[Sistema]]*Table1[[#This Row],[Costo Unitario]],"") | J333: =IFERROR(IFERROR(VLOOKUP(E333,'Conteo Fisico'!A:B,2,FALSE),0),"") -> 0 | K333: =IFERROR(+Table1[[#This Row],[Fisico]]-Table1[[#This Row],[Sistema]],"") | L333: =_xlfn.IFS(Table1[[#This Row],[Diferencia]]>0,"Sobrante",Table1[[#This Row],[Diferencia]]<0,"Faltante",Table1[[#This Row],[Diferencia]]=0,"Ok") -> Sobrante | N333: =IFERROR(+Table1[[#This Row],[Diferencia]]*Table1[[#This Row],[Costo Unitario]],"")
M334: Gran total
M335: Total por items seleccionados | N335: =_xlfn.AGGREGATE(9,3,Table1[Valor en $]) -> 663480

Sheet Inventario Fisico
A1: Periodo:
A2: Bodega:
A3: Valorización de Existencias a Precio: Costo
V9: ANOTAR. CONTEO
A10: CODIGO | D10: DESCRIPCION | L10: CANTIDAD en GRAMOS | O10: COSTO UNITARIO | V10: FISICO
A11: I007 | D11: ENTRAÑA X GRAMOS | L11: 13000 | O11: 120 | V11: 16340
A12: I029 | D12: CHICHARRON X GRAMOS | L12: 20000 | O12: 23 | V12: 26080
A13: I034 | D13: CEBOLLA BLANCA | L13: 7000 | O13: 7 | V13: 7060
A14: I017 | D14: VINAGRE BLANCO | L14: 10000 | O14: 3 | V14: 6000
A15: I014 | D15: COSTILLA X GRAMOS | L15: 5000 | O15: 28 | V15: 6615
A16: I046 | D16: PEPINO COHOMBRO | L16: 400 | O16: 4 | V16: 955
A17: I020 | D17: SAL PARRILLERA X GRAMOS | L17: 2000 | O17: 29 | V17: 4540
A18: I025 | D18: YUCA X GRAMOS | L18: 41585 | O18: 7 | V18: 41585
A19: I056 | D19: CEBOLLA PUERRO X GRAMOS | L19: 2000 | O19: 9 | V19: 3480
L20: =+K20/1000 -> 0 | O20: 23
L21: =+K21/1000 -> 0
L22: =+K22/1000 -> 0
L23: =+K23/1000 -> 0
L24: =+K24/1000 -> 0
L25: =+K25/1000 -> 0
L26: =+K26/1000 -> 0
L27: =+K27/1000 -> 0
L28: =+K28/1000 -> 0
L29: =+K29/1000 -> 0
L30: =+K30/1000 -> 0
L31: =+K31/1000 -> 0
L32: =+K32/1000 -> 0
... L328: =+K328/1000 -> 0

Sheet Conteo Fisico
A1: Código | B1: Conteo Fisico
A2: =+'Inventario Fisico'!A11 -> I007 | B2: =VLOOKUP(A2,'Inventario Fisico'!A:V,22,0) -> 16340
A3: =+'Inventario Fisico'!A12 -> I029 | B3: =VLOOKUP(A3,'Inventario Fisico'!A:V,22,0) -> 26080
A4: =+'Inventario Fisico'!A13 -> I034 | B4: =VLOOKUP(A4,'Inventario Fisico'!A:V,22,0) -> 7060
A5: =+'Inventario Fisico'!A14 -> I017 | B5: =VLOOKUP(A5,'Inventario Fisico'!A:V,22,0) -> 6000
A6: =+'Inventario Fisico'!A15 -> I014 | B6: =VLOOKUP(A6,'Inventario Fisico'!A:V,22,0) -> 6615
A7: =+'Inventario Fisico'!A16 -> I046 | B7: =VLOOKUP(A7,'Inventario Fisico'!A:V,22,0) -> 955
A8: =+'Inventario Fisico'!A17 -> I020 | B8: =VLOOKUP(A8,'Inventario Fisico'!A:V,22,0) -> 4540
A9: =+'Inventario Fisico'!A18 -> I025 | B9: =VLOOKUP(A9,'Inventario Fisico'!A:V,22,0) -> 41585
A10: =+'Inventario Fisico'!A19 -> I056 | B10: =VLOOKUP(A10,'Inventario Fisico'!A:V,22,0) -> 3480
A11: =+'Inventario Fisico'!A20 -> 0 | B11: =VLOOKUP(A11,'Inventario Fisico'!A:V,22,0) -> #N/A
A12: =+'Inventario Fisico'!A21 -> 0 | B12: =VLOOKUP(A12,'Inventario Fisico'!A:V,22,0) -> #N/A
A13: =+'Inventario Fisico'!A22 -> 0 | B13: =VLOOKUP(A13,'Inventario Fisico'!A:V,22,0) -> #N/A
... A319: =+'Inventario Fisico'!A328 -> 0 | B319: =VLOOKUP(A319,'Inventario Fisico'!A:V,22,0) -> #N/A

Sheet Mapa
A1: B | B1: Bebidas | C1: BAR
A2: V | B2: Vinos | C2: BAR
A3: L | B3: Licores | C3: BAR
A4: I | B4: Inventarios/Insumos | C4: COCINA
A5: A | B5: Adicionales/Acompañamientos | C5: COCINA
A6: X | B6: Producciones | C6: COCINA
A7: P | B7: Postres | C7: COCINA
A8: S | B8: Salsas | C8: COCINA

Sheet Determinación Mermas %
A3: CONTROL DE MERMAS
A4: Responsable | D4: Control de Revision
A6: PRODUCTO | B6: FECHA DE RECEPCION | C6: PESO INICIAL | D6: MERMA NO UTIL | E6: MERMA UTIL | F6: OBSERVACIONES | G6: % De Merma | I6: Cant real | J6: Hemos pagado | K6: Precio x Kg | L6: Total Compras | M6: Receta | N6: Costo receta
A7: Pechuga de Pollo | B7: 44599 | C7: 10000 | D7: 600 | F7: Producto llegó congelado | G7: =IFERROR((+D7/C7),"") -> 0.06 | I7: =+C7-D7 -> 9400 | K7: 15000 | L7: =+((C7)*(K7/1000)) -> 150000 | M7: 200 | N7: =+(M7*K7)/1000 -> 3000 | O7: PRECIO DE VENTA
A8: Pechuga de Pollo | B8: 44688 | C8: 6000 | D8: 400 | G8: =IFERROR((+D8/C8),"") -> 0.066666667 | I8: =+C8-D8 -> 5600 | K8: 15000 | L8: =+((C8)*(K8/1000)) -> 90000 | M8: 200 | N8: =+(M8*K8)/1000 -> 3000
A9: Lomo Fino | B9: 44688 | C9: 100000 | D9: 2000 | G9: =IFERROR((+D9/C9),"") -> 0.02 | I9: =+C9-D9 -> 98000 | K9: 45000 | L9: =+((C9)*(K9/1000)) -> 4500000 | M9: 200 | N9: =+(M9*K9)/1000 -> 9000
A10: Camarones | C10: 5000 | G10: =IFERROR((+D10/C10),"") -> 0 | I10: =+C10-D10 -> 5000
A11: Langostinos | C11: 2000 | G11: =IFERROR((+D11/C11),"") -> 0 | I11: =+C11-D11 -> 2000
A12: Pechuga de Pollo | C12: 20000 | D12: 4000 | G12: =IFERROR((+D12/C12),"") -> 0.2 | I12: Pechuga de Pollo | K12: =+(L7+L8)/(I7+I8) -> 16 | L12: =(+L7+L8)/2 -> 120000 | M12: 200 | N12: =+(M12*K12) -> 3200 | O12: ????
I13: Lomo Fino | K13: =+L9/(I9) -> 45.918367 | L13: =L9 -> 4500000 | M13: 200 | N13: =+(M13*K13) -> 9183.6735
G14: =IFERROR((+D14/C14),"")
G15: =IFERROR((+D15/C15),"")
G16: =IFERROR((+D16/C16),"")
G17: =IFERROR((+D17/C17),"")
G18: =IFERROR((+D18/C18),"") | K18: Row Labels | L18: Sum of PESO INICIAL | M18: Sum of MERMA NO UTIL
G19: =IFERROR((+D19/C19),"") | K19: Camarones | L19: 5000
G20: =IFERROR((+D20/C20),"") | K20: Langostinos | L20: 2000
G21: =IFERROR((+D21/C21),"") | K21: Lomo Fino | L21: 100000 | M21: 2000
G22: =IFERROR((+D22/C22),"") | K22: Pechuga de Pollo | L22: 36000 | M22: 5000
G23: =IFERROR((+D23/C23),"") | K23: Grand Total | L23: 143000 | M23: 7000
G24: =IFERROR((+D24/C24),"")
G25: =IFERROR((+D25/C25),"")
G26: =IFERROR((+D26/C26),"")
G27: =IFERROR((+D27/C27),"")
G28: =IFERROR((+D28/C28),"")
G29: =IFERROR((+D29/C29),"")
G30: =IFERROR((+D30/C30),"")
G31: =IFERROR((+D31/C31),"")
G32: =IFERROR((+D32/C32),"")
G33: =IFERROR((+D33/C33),"")
G34: =IFERROR((+D34/C34),"")
G35: =IFERROR((+D35/C35),"")
... G88: =IFERROR((+D88/C88),"")
